BEGIN:VCALENDAR
PRODID:-//SIMsKultur.net//iCal Class MIMEDIR//EN
VERSION:2.0
METHOD:PUBLISH
BEGIN:VEVENT
DTSTART:20260606T220000Z
LOCATION;LANGUAGE=de:Mariahilfer Straße 212, 1140 Wien
TRANSP:OPAQUE
SEQUENCE:0
UID:03b592fb619ac72b7ff1372e3f75b323
DTSTAMP:20260424T105700Z
DESCRIPTION;LANGUAGE=de:Materialwelten: Was haben ein Fahrradrahmen, ein Mikrochip und ein Wolkenkratzer gemeinsam? Sie alle bestehen aus Materialien, die mehr können, als man auf den ersten Blick vermutet. Die neue Ausstellung Materialwelten  im Technischen Museum Wien rückt genau diese Werkstoffe ins Zentrum: ihre Herkunft, ihre Verarbeitung – und ihre Rolle als Motor technischer Innovationen.

Technisches Museum Wien
Mariahilfer Straße 212, 1140 Wien
i: https://www.technischesmuseum.at/
t: +43 1 89998-0
e: museumsbox@tmw.at

Ein Service von Kultur.net. http://www.simskultur.net
SUMMARY;LANGUAGE=de:Materialwelten
PRIORITY:5
CLASS:PUBLIC
URL:https://kultur.net/technisches-museum-wien/programm/materialwelten
STATUS:CONFIRMED
END:VEVENT
END:VCALENDAR
