BEGIN:VCALENDAR
PRODID:-//SIMsKultur.net//iCal Class MIMEDIR//EN
VERSION:2.0
METHOD:PUBLISH
BEGIN:VEVENT
DTSTART:20260604T220000Z
LOCATION;LANGUAGE=de:Berggasse 19, 1090 Wien
TRANSP:OPAQUE
SEQUENCE:0
UID:4ca7de76847b5fe2829f7cefdad273e9
DTSTAMP:20260424T090700Z
DESCRIPTION;LANGUAGE=de:Der Fall Freud. Dokumente des Unrechts.: Die Sonderausstellung „Der Fall Freud. Dokumente des Unrechts“, erzählt die letzten Monate der Familie Freud im nationalsozialistischen Wien. Sie setzt sich mit dem Raub an Sigmund Freud und seinem Bruder Alexander, der Entrechtung der gesamten Familie und der Ermordung seiner Schwestern, die zurückblieben, auseinander. Zentrales Element sind bisher unveröffentlichte Gerichtsdokumente:

Sigmund Freud Museum
Berggasse 19, 1090 Wien
i: https://www.freud-museum.at/de/
t: +43 1 3191596
e: office@freud-museum.at

Ein Service von Kultur.net. http://www.simskultur.net
SUMMARY;LANGUAGE=de:Der Fall Freud. Dokumente des Unrechts.
PRIORITY:5
CLASS:PUBLIC
URL:https://kultur.net/sigmund-freud-museum/programm/der-fall-freud-dokumente-des-unrechts
STATUS:CONFIRMED
END:VEVENT
END:VCALENDAR
