BEGIN:VCALENDAR
PRODID:-//SIMsKultur.net//iCal Class MIMEDIR//EN
VERSION:2.0
METHOD:PUBLISH
BEGIN:VEVENT
DTSTART:20260504T083000Z
DTEND:20260504T093000Z
LOCATION;LANGUAGE=de:Universitätsstraße 1, 6020 Innsbruck
TRANSP:OPAQUE
SEQUENCE:0
UID:3dddc6ae647729010da0d043e6591d3c
DTSTAMP:20260426T004800Z
DESCRIPTION;LANGUAGE=de:Klangwerkstatt 3: Hausmeisterin Klara ist aus dem Tiroler Symphonieorchester Innsbruck nicht mehr wegzudenken! Sie ist immer zur Stelle, wenn es darum geht, den Musiker:innen unseres Orchesters zur Seite zu stehen. Sie macht und repariert, sie organisiert und kümmert sich um alles.

Haus der Musik Innsbruck
Universitätsstraße 1, 6020 Innsbruck
i: https://www.haus-der-musik-innsbruck.at/
t: +43 512 52074
e: info@hdm-innsbruck.at

Ein Service von Kultur.net. http://www.simskultur.net
SUMMARY;LANGUAGE=de:Klangwerkstatt 3
PRIORITY:5
CLASS:PUBLIC
URL:https://kultur.net/haus-der-musik-innsbruck/programm/klangwerkstatt-3
STATUS:CONFIRMED
END:VEVENT
END:VCALENDAR
