BEGIN:VCALENDAR
PRODID:-//SIMsKultur.net//iCal Class MIMEDIR//EN
VERSION:2.0
METHOD:PUBLISH
BEGIN:VEVENT
DTSTART:20260503T083000Z
DTEND:20260503T093000Z
LOCATION;LANGUAGE=de:Universitätsstraße 1, 6020 Innsbruck
TRANSP:OPAQUE
SEQUENCE:0
UID:7f863f4c85d9677e5ac8ea544777fba5
DTSTAMP:20260425T192500Z
DESCRIPTION;LANGUAGE=de:Klangwerkstatt 3: Hausmeisterin Klara ist aus dem Tiroler Symphonieorchester Innsbruck nicht mehr wegzudenken! Sie ist immer zur Stelle, wenn es darum geht, den Musiker:innen unseres Orchesters zur Seite zu stehen. Sie macht und repariert, sie organisiert und kümmert sich um alles.

Haus der Musik Innsbruck
Universitätsstraße 1, 6020 Innsbruck
i: https://www.haus-der-musik-innsbruck.at/
t: +43 512 52074
e: info@hdm-innsbruck.at

Ein Service von Kultur.net. http://www.simskultur.net
SUMMARY;LANGUAGE=de:Klangwerkstatt 3
PRIORITY:5
CLASS:PUBLIC
URL:https://kultur.net/haus-der-musik-innsbruck/programm/klangwerkstatt-3
STATUS:CONFIRMED
END:VEVENT
END:VCALENDAR
