BEGIN:VCALENDAR
PRODID:-//SIMsKultur.net//iCal Class MIMEDIR//EN
VERSION:2.0
METHOD:PUBLISH
BEGIN:VEVENT
DTSTART:20260901T120000Z
DTEND:20260901T130000Z
LOCATION;LANGUAGE=de:Kulturbezirk 5, 3100 St. Pölten
TRANSP:OPAQUE
SEQUENCE:0
UID:8d57015c4e6bf6169d61ec7deb24f04d
DTSTAMP:20260425T131900Z
DESCRIPTION;LANGUAGE=de:Tierischer Dienstag: Das Museum Niederösterreich ist auch ein Zoo! Über 40 heimische Tierarten leben in den Terrarien, Aquarien und in dem zweistöckigen Formicarium. Was das ist? Erfahren Sie es am Tierischen Dienstag!

MUSEUM NIEDERÖSTERREICH
Kulturbezirk 5, 3100 St. Pölten
i: https://www.museumnoe.at/de
t: +43 2742 908090-998
e: info@museumnoe.at

Ein Service von Kultur.net. http://www.simskultur.net
SUMMARY;LANGUAGE=de:Tierischer Dienstag
PRIORITY:5
CLASS:PUBLIC
URL:https://kultur.net/museum-niederoesterreich/programm/tierischer-dienstag
STATUS:CONFIRMED
END:VEVENT
END:VCALENDAR
