BEGIN:VCALENDAR
PRODID:-//SIMsKultur.net//iCal Class MIMEDIR//EN
VERSION:2.0
METHOD:PUBLISH
BEGIN:VEVENT
DTSTART:20260818T120000Z
DTEND:20260818T130000Z
LOCATION;LANGUAGE=de:Kulturbezirk 5, 3100 St. Pölten
TRANSP:OPAQUE
SEQUENCE:0
UID:ce0a8e9ece2a75675629068bba47d185
DTSTAMP:20260421T083200Z
DESCRIPTION;LANGUAGE=de:Tierischer Dienstag: Das Museum Niederösterreich ist auch ein Zoo! Über 40 heimische Tierarten leben in den Terrarien, Aquarien und in dem zweistöckigen Formicarium. Was das ist? Erfahren Sie es am Tierischen Dienstag!

MUSEUM NIEDERÖSTERREICH
Kulturbezirk 5, 3100 St. Pölten
i: https://www.museumnoe.at/de
t: +43 2742 908090-998
e: info@museumnoe.at

Ein Service von Kultur.net. http://www.simskultur.net
SUMMARY;LANGUAGE=de:Tierischer Dienstag
PRIORITY:5
CLASS:PUBLIC
URL:https://kultur.net/museum-niederoesterreich/programm/tierischer-dienstag
STATUS:CONFIRMED
END:VEVENT
END:VCALENDAR
