BEGIN:VCALENDAR
PRODID:-//SIMsKultur.net//iCal Class MIMEDIR//EN
VERSION:2.0
METHOD:PUBLISH
BEGIN:VEVENT
DTSTART:20261107T100000Z
DTEND:20261107T110000Z
LOCATION;LANGUAGE=de:Kulturbezirk 5, 3100 St. Pölten
TRANSP:OPAQUE
SEQUENCE:0
UID:670dcc6fa51e29cc33e8d2d6371cacfe
DTSTAMP:20260424T022100Z
DESCRIPTION;LANGUAGE=de:Museumstour "Kinder des Krieges": Das Museum Niederösterreich bietet jeden Samstag, Sonntag & Feiertag wechselnde Museumstouren durch das Haus an. Ein erfahrenes Vermittlungsteam begleitet Sie fachkundig durch die Ausstellungen und bietet spannende Einblicke in die Geschichte & Natur des Landes Niederösterreich. Diese Museumstour führt durch die Ausstellung "Kinder des Krieges – Aufwachsen zwischen 1938 und 1955".

MUSEUM NIEDERÖSTERREICH
Kulturbezirk 5, 3100 St. Pölten
i: https://www.museumnoe.at/de
t: +43 2742 908090-998
e: info@museumnoe.at

Ein Service von Kultur.net. http://www.simskultur.net
SUMMARY;LANGUAGE=de:Museumstour "Kinder des Krieges"
PRIORITY:5
CLASS:PUBLIC
URL:https://kultur.net/museum-niederoesterreich/programm/museumstour-kinder-des-krieges
STATUS:CONFIRMED
END:VEVENT
END:VCALENDAR
