BEGIN:VCALENDAR
PRODID:-//SIMsKultur.net//iCal Class MIMEDIR//EN
VERSION:2.0
METHOD:PUBLISH
BEGIN:VEVENT
DTSTART:20260513T170000Z
DTEND:20260513T180000Z
LOCATION;LANGUAGE=de:Währingerstraße 78, 1090 Wien
TRANSP:OPAQUE
SEQUENCE:0
UID:d978debaa27b0c44a148fa49b0077e62
DTSTAMP:20260422T164200Z
DESCRIPTION;LANGUAGE=de:Follies: Musical von Stephen Sondheim und James Goldman - In deutscher Sprache mit englischen Übertiteln - Drei Jahrzehnte, nachdem Sally und Phyllis als Showgirls der „Follies“-Revue engagiert waren, besuchen sie anlässlich einer großen Gala ihre einstige Wirkungsstätte. Hier haben sie auch ihre beiden Ehemänner Buddy und Benjamin kennengelernt, die sie zu dem Wiedersehen mit ehemaligen Kolleginnen und Weggefährten begleiten.

Volksoper Wien
Währingerstraße 78, 1090 Wien
i: www.volksoper.at
t: +43 1 51444-3670
e: office@volksoper.at

Ein Service von Kultur.net. http://www.simskultur.net
SUMMARY;LANGUAGE=de:Follies
PRIORITY:5
CLASS:PUBLIC
URL:https://kultur.net/volksoper-wien/programm/follies
STATUS:CONFIRMED
END:VEVENT
END:VCALENDAR
