BEGIN:VCALENDAR
PRODID:-//SIMsKultur.net//iCal Class MIMEDIR//EN
VERSION:2.0
METHOD:PUBLISH
BEGIN:VEVENT
DTSTART:20260621T170000Z
DTEND:20260621T180000Z
LOCATION;LANGUAGE=de:Währingerstraße 78, 1090 Wien
TRANSP:OPAQUE
SEQUENCE:0
UID:edaf383cdd96fd0f72e8c0c327c63009
DTSTAMP:20260424T134800Z
DESCRIPTION;LANGUAGE=de:Die Csárdásfürstin: Operette von Emmerich Kálmán - In deutscher Sprache mit deutschen und englischen Übertiteln - Die berühmte Chansonnière Sylva darf ihren adeligen Geliebten Edwin nicht heiraten. Seine Eltern sorgen dafür, dass er zur Armee eingezogen wird, und verloben ihn mit einer Gräfin. Bei der Verlobungsfeier taucht plötzlich die Chansonnière auf…

Volksoper Wien
Währingerstraße 78, 1090 Wien
i: www.volksoper.at
t: +43 1 51444-3670
e: office@volksoper.at

Ein Service von Kultur.net. http://www.simskultur.net
SUMMARY;LANGUAGE=de:Die Csárdásfürstin
PRIORITY:5
CLASS:PUBLIC
URL:https://kultur.net/volksoper-wien/programm/die-csardasfuerstin-4
STATUS:CONFIRMED
END:VEVENT
END:VCALENDAR
