BEGIN:VCALENDAR
PRODID:-//SIMsKultur.net//iCal Class MIMEDIR//EN
VERSION:2.0
METHOD:PUBLISH
BEGIN:VEVENT
DTSTART:20270104T230000Z
LOCATION;LANGUAGE=de:Kulturbezirk 5, 3100 St. Pölten
TRANSP:OPAQUE
SEQUENCE:0
UID:b33ba4450883bc9dfc0f3a716901f4d8
DTSTAMP:20260419T125900Z
DESCRIPTION;LANGUAGE=de:Tiere der Nacht - Sonderausstellung im Haus für Natur: Während wir Menschen in der Nacht meist zur Ruhe kommen, erwacht die Natur zu einem lebhaften Treiben. Viele Tiere und Pflanzen nutzen die Dunkelheit als Raum für ihre Aktivitäten: Fledermäuse fliegen durch die Lüfte, Eulen durchstreifen die Wälder und Frösche lassen ihre Rufe ertönen. Diese außergewöhnlichen Geschöpfe haben sich perfekt an die lichtarmen Stunden angepasst und entfalten in der Nacht ihre besonderen Fähigkeiten.

MUSEUM NIEDERÖSTERREICH
Kulturbezirk 5, 3100 St. Pölten
i: https://www.museumnoe.at/de
t: +43 2742 908090-998
e: info@museumnoe.at

Ein Service von Kultur.net. http://www.simskultur.net
SUMMARY;LANGUAGE=de:Tiere der Nacht - Sonderausstellung im Haus für Natur
PRIORITY:5
CLASS:PUBLIC
URL:https://kultur.net/museum-niederoesterreich/programm/tiere-der-nacht-sonderausstellung-im-haus-fuer-natur
STATUS:CONFIRMED
END:VEVENT
END:VCALENDAR
