BEGIN:VCALENDAR
PRODID:-//SIMsKultur.net//iCal Class MIMEDIR//EN
VERSION:2.0
METHOD:PUBLISH
BEGIN:VEVENT
DTSTART:20260925T220000Z
LOCATION;LANGUAGE=de:Domplatz 1, 3100 St. Pölten
TRANSP:OPAQUE
SEQUENCE:0
UID:849083ff0ea39d636f3559f3d4b45a35
DTSTAMP:20260423T012400Z
DESCRIPTION;LANGUAGE=de:DER LUFTSCHUTZKELLER: Seit 2025 ist die Ausstellungsfläche des Museum am Dom um den ehemaligen Luftschutzkeller unter dem Bistumsgebäude erweitert, wo eine Schau Einblicke in die bangen Stunden bietet, die die Bevölkerung rund um den Domplatz während der Bombardements 1945 dort verbracht hat.

Museum am Dom St. Pölten
Domplatz 1, 3100 St. Pölten
i: https://www.museumamdom.at/
t: +43 2742 324335
e: museum@dsp.at

Ein Service von Kultur.net. http://www.simskultur.net
SUMMARY;LANGUAGE=de:DER LUFTSCHUTZKELLER
PRIORITY:5
CLASS:PUBLIC
URL:https://kultur.net/museum-am-dom-st-poelten/programm/der-luftschutzkeller
STATUS:CONFIRMED
END:VEVENT
END:VCALENDAR
