BEGIN:VCALENDAR
PRODID:-//SIMsKultur.net//iCal Class MIMEDIR//EN
VERSION:2.0
METHOD:PUBLISH
BEGIN:VEVENT
DTSTART:20260612T220000Z
LOCATION;LANGUAGE=de:Johann von Nepomuk-Platz 1, 2700 Wiener Neustadt
TRANSP:OPAQUE
SEQUENCE:0
UID:c718ed1a12d12c75b7412021e8b83bf9
DTSTAMP:20260420T070500Z
DESCRIPTION;LANGUAGE=de:Für das Kind: Ein Koffer und ein Handgepäckstück – klingt nach einer gemütlichen Ferienreise. Finden Sie nicht? Aber genau das und nicht mehr, durften die ca. 10.000 Kinder, die zwischen Anfang Dezember 1938 und 1. September 1939 aus den von den Nationalsozialisten besetzten Ländern, Österreich, Deutschland und der ehemaligen Tschechoslowakei nach Großbritannien in Sicherheit gebracht wurden, mitnehmen.

Museum St. Peter an der Sperr
Johann von Nepomuk-Platz 1, 2700 Wiener Neustadt
i: https://www.museum-wn.at
t: +43 2622 373951 
e: museum@wiener-neustadt.at

Ein Service von Kultur.net. http://www.simskultur.net
SUMMARY;LANGUAGE=de:Für das Kind
PRIORITY:5
CLASS:PUBLIC
URL:https://kultur.net/museum-st-peter-an-der-sperr/programm/fuer-das-kind
STATUS:CONFIRMED
END:VEVENT
END:VCALENDAR
