BEGIN:VCALENDAR
PRODID:-//SIMsKultur.net//iCal Class MIMEDIR//EN
VERSION:2.0
METHOD:PUBLISH
BEGIN:VEVENT
DTSTART:20260626T170000Z
DTEND:20260626T180000Z
LOCATION;LANGUAGE=de:Währingerstraße 78, 1090 Wien
TRANSP:OPAQUE
SEQUENCE:0
UID:ae208dc410de8b259ed0093d32eb4a3b
DTSTAMP:20260420T040700Z
DESCRIPTION;LANGUAGE=de:KaiserRequiem: Kaiser Overall herrscht als Tyrann über Atlantis. Als er schließlich den Krieg Aller gegen Alle erklärt, beschließt der Tod, seine Arbeit einzustellen. In einem Akt populistischer Demagogie präsentiert sich der Kaiser als Erfinder der Unsterblichkeit. Doch ohne Tod versinkt das Land im Chaos. Der Kaiser muss erkennen, dass seine Macht gebrochen ist. 

Volksoper Wien
Währingerstraße 78, 1090 Wien
i: www.volksoper.at
t: +43 1 51444-3670
e: office@volksoper.at

Ein Service von Kultur.net. http://www.simskultur.net
SUMMARY;LANGUAGE=de:KaiserRequiem
PRIORITY:5
CLASS:PUBLIC
URL:https://kultur.net/volksoper-wien/programm/kaiserrequiem
STATUS:CONFIRMED
END:VEVENT
END:VCALENDAR
