BEGIN:VCALENDAR
PRODID:-//SIMsKultur.net//iCal Class MIMEDIR//EN
VERSION:2.0
METHOD:PUBLISH
BEGIN:VEVENT
DTSTART:20260530T090000Z
DTEND:20260530T100000Z
LOCATION;LANGUAGE=de:Hofgasse 11, 8010 Graz
TRANSP:OPAQUE
SEQUENCE:0
UID:d544f202cdd605c2686197c77b66a1e5
DTSTAMP:20260424T051900Z
DESCRIPTION;LANGUAGE=de:Offener Salon - The Cake Escape: An einem Samstag im Monat gibt das Schauspielhaus Gruppen und Institutionen der Stadt Raum für ihre Themen und Anliegen. Am 1. Februar begrüßt das Schauspielhaus The Cake Escape: eine virtuelle Band aus Graz, die sich mit ihren Songs und anderen künstlerischen Projekten für Gleichberechtigung und Gleichstellung einsetzt.

Schauspielhaus Graz - Schauspielhaus
Hofgasse 11, 8010 Graz
i: www.schauspielhaus-graz.com
t: +43 316 8008 3212
e: presse-sh@schauspielhaus-graz.com

Ein Service von Kultur.net. http://www.simskultur.net
SUMMARY;LANGUAGE=de:Offener Salon - The Cake Escape
PRIORITY:5
CLASS:PUBLIC
URL:https://kultur.net/schauspielhaus-graz-schauspielhaus/programm/offener-salon-the-cake-escape
STATUS:CONFIRMED
END:VEVENT
END:VCALENDAR
