BEGIN:VCALENDAR
PRODID:-//SIMsKultur.net//iCal Class MIMEDIR//EN
VERSION:2.0
METHOD:PUBLISH
BEGIN:VEVENT
DTSTART:20260418T220000Z
LOCATION;LANGUAGE=de:Rochusplatz 1, 7461 Stadtschlaining
TRANSP:OPAQUE
SEQUENCE:0
UID:bd15fd54c0f3d4dec41c82c263d39c68
DTSTAMP:20260424T060800Z
DESCRIPTION;LANGUAGE=de:Dunkle Zeiten - Von Tätern und Gerechten: Die Ausstellung widmet sich der Zeit des nationalsozialistischen Terrors im Burgenland - erzählt durch Biografien von Tätern und jenen, die Widerstand leisteten. Der nationalsozialistische Terror im Burgenland dauerte vom 11. März 1938 bis zum 8. Mai 1945. Diese mehr als sieben Jahre stellen das dunkelste Kapitel unserer Geschichte dar.

Friedensburg Schlaining
Rochusplatz 1, 7461 Stadtschlaining
i: https://www.friedensburg.at/
t: +43 3355 2306
e: friedensburg@kultur-burgenland.at

Ein Service von Kultur.net. http://www.simskultur.net
SUMMARY;LANGUAGE=de:Dunkle Zeiten - Von Tätern und Gerechten
PRIORITY:5
CLASS:PUBLIC
URL:https://kultur.net/friedensburg-schlaining/programm/dunkle-zeiten-von-taetern-und-gerechten
STATUS:CONFIRMED
END:VEVENT
END:VCALENDAR
