BEGIN:VCALENDAR
PRODID:-//SIMsKultur.net//iCal Class MIMEDIR//EN
VERSION:2.0
METHOD:PUBLISH
BEGIN:VEVENT
DTSTART:20260505T173000Z
DTEND:20260505T183000Z
LOCATION;LANGUAGE=de:Seestraße 2, 6900 Bregenz
TRANSP:OPAQUE
SEQUENCE:0
UID:4943b2121548864f8f8e3bf207ba5f94
DTSTAMP:20260419T181100Z
DESCRIPTION;LANGUAGE=de:TOXIC - Britney über Spears: Sie wurde gefeiert als die Prinzessin des Pops, stürmte die globalen Charts, war die Ikone des noch jungen neuen Jahrtausends. Nichts, so schien es, konnte Britney Spears weltweiten musikalischen Siegeszug aufhalten. Dann der Absturz: Zusammenbruch, Kontrollverlust, Spott, Entmündigung.

Vorarlberger Landestheater
Seestraße 2, 6900 Bregenz
i: https://landestheater.org/
t: +43 5574 42870600 
e: info@landestheater.org

Ein Service von Kultur.net. http://www.simskultur.net
SUMMARY;LANGUAGE=de:TOXIC - Britney über Spears
PRIORITY:5
CLASS:PUBLIC
URL:https://kultur.net/vorarlberger-landestheater-theater-am-kornmarkt/programm/toxic-britney-ueber-spears
STATUS:CONFIRMED
END:VEVENT
END:VCALENDAR
