BEGIN:VCALENDAR
PRODID:-//SIMsKultur.net//iCal Class MIMEDIR//EN
VERSION:2.0
METHOD:PUBLISH
BEGIN:VEVENT
DTSTART:20260606T130000Z
DTEND:20260606T140000Z
LOCATION;LANGUAGE=de:Rathausplatz 11, 3100 St. Pölten
TRANSP:OPAQUE
SEQUENCE:0
UID:9ad115910456b55889756a3829067430
DTSTAMP:20260424T171100Z
DESCRIPTION;LANGUAGE=de:Erinnerungsbüro: Ein Stadtspaziergang: Ausgehend von der ehemaligen Synagoge in St. Pölten besuchen die Teilnehmer:innen Häuser und Plätze. Durch die von Bettina Kerl gelesenen Originaltexte wie Briefe und Tagebucheinträge werden die Stationen zu Schauplätzen der tatkräftigen Gemeinde und der späteren Verfolgung der St. Pöltner Jüdinnen und Juden. Biografische Schlaglichter verbinden sich zu einem wichtigen Stück Stadtgeschichte.

Landestheater Niederösterreich
Rathausplatz 11, 3100 St. Pölten
i: www.landestheater.net
t: +43 2742 908080600
e: karten@landestheater.net

Ein Service von Kultur.net. http://www.simskultur.net
SUMMARY;LANGUAGE=de:Erinnerungsbüro: Ein Stadtspaziergang
PRIORITY:5
CLASS:PUBLIC
URL:https://kultur.net/landestheater-niederoesterreich/programm/erinnerungsbuero-ein-stadtspaziergang-0
STATUS:CONFIRMED
END:VEVENT
END:VCALENDAR
