BEGIN:VCALENDAR
PRODID:-//SIMsKultur.net//iCal Class MIMEDIR//EN
VERSION:2.0
METHOD:PUBLISH
BEGIN:VEVENT
DTSTART:20260427T090000Z
DTEND:20260427T100000Z
LOCATION;LANGUAGE=de:Währingerstraße 78, 1090 Wien
TRANSP:OPAQUE
SEQUENCE:0
UID:65e3e19170898017a1f60467da240125
DTSTAMP:20260422T142800Z
DESCRIPTION;LANGUAGE=de:Der Krieg der Knöpfe: Ein Musiktheater-Abenteuer für die ganze Familie von Johanna Arrouas in deutscher und französischer Sprache. In Frankreich vor 100 Jahren: Zwei kleine Dörfer liegen seit Generationen im Streit, obwohl niemand mehr so genau weiß, warum. Die Erwachsenen sind zu sehr mit Landarbeit und Wirtshaus beschäftigt, und so sind es die Kinder, die diesen Kampf austragen. Regelmäßig treffen sie im Wald aufeinander und prügeln sich. Nach und nach scheint das Miteinander wichtiger zu werden als das Gegeneinander. Als es zu einer letzten Auseinandersetzung kommt, droht jedoch das lustige Abenteuer in bitteren Ernst umzuschlagen.

Volksoper Wien
Währingerstraße 78, 1090 Wien
i: www.volksoper.at
t: +43 1 51444-3670
e: office@volksoper.at

Ein Service von Kultur.net. http://www.simskultur.net
SUMMARY;LANGUAGE=de:Der Krieg der Knöpfe
PRIORITY:5
CLASS:PUBLIC
URL:https://kultur.net/volksoper-wien/programm/der-krieg-der-knoepfe
STATUS:CONFIRMED
END:VEVENT
END:VCALENDAR
