BEGIN:VCALENDAR
PRODID:-//SIMsKultur.net//iCal Class MIMEDIR//EN
VERSION:2.0
METHOD:PUBLISH
BEGIN:VEVENT
DTSTART:20260424T220000Z
LOCATION;LANGUAGE=de:Prandtauerstraße 2, 3100 St. Pölten
TRANSP:OPAQUE
SEQUENCE:0
UID:3da868d3fd22456f966df35668eed079
DTSTAMP:20260422T084600Z
DESCRIPTION;LANGUAGE=de:Von Steinen und Beinen: Es werden Originalfunde von der Domplatzausgrabung präsentiert, die die wechselvolle Geschichte eines Platzes erzählen, der keiner war. Aufsehenerregende Resultate der naturwissenschaftlichen Untersuchungen geben zudem einen tiefen Einblick in die Lebensbedingungen der St. Pöltner Bevölkerung der damaligen Zeit.

Stadtmuseum St. Pölten
Prandtauerstraße 2, 3100 St. Pölten
i: www.stadtmuseum-stpoelten.at
t: +43 2742 3332643
e: office@stadtmuseum-stpoelten.at

Ein Service von Kultur.net. http://www.simskultur.net
SUMMARY;LANGUAGE=de:Von Steinen und Beinen
PRIORITY:5
CLASS:PUBLIC
URL:https://kultur.net/stadtmuseum-st-poelten/programm/von-steinen-und-beinen
STATUS:CONFIRMED
END:VEVENT
END:VCALENDAR
