BEGIN:VCALENDAR
PRODID:-//SIMsKultur.net//iCal Class MIMEDIR//EN
VERSION:2.0
METHOD:PUBLISH
BEGIN:VEVENT
DTSTART:20260607T120000Z
DTEND:20260607T130000Z
LOCATION;LANGUAGE=de:Kulturbezirk 5, 3100 St. Pölten
TRANSP:OPAQUE
SEQUENCE:0
UID:164b2d59060121874c5bf8a17f62681f
DTSTAMP:20260420T202700Z
DESCRIPTION;LANGUAGE=de:Museumstour - Haus für Natur: Das Haus für Natur verbindet das Beste aus Museum und Zoo. Die Ausstellung ist nach Lebensräumen angeordnet und bietet Einblicke in die Flora und Fauna Niederösterreichs. Sie erstreckt sich über mehrere Ebenen. Über eine Aulandschaft, eine Höhle sowie Wald und Wiese gelangt man über das Mittelgebirge bis ins Hochgebirge, den höchsten Punkt des Hauses. Diese Museumstour bietet einen Überblick der Highlights im Haus für Natur.

MUSEUM NIEDERÖSTERREICH
Kulturbezirk 5, 3100 St. Pölten
i: https://www.museumnoe.at/de
t: +43 2742 908090-998
e: info@museumnoe.at

Ein Service von Kultur.net. http://www.simskultur.net
SUMMARY;LANGUAGE=de:Museumstour - Haus für Natur
PRIORITY:5
CLASS:PUBLIC
URL:https://kultur.net/museum-niederoesterreich/programm/museumstour-haus-fuer-natur
STATUS:CONFIRMED
END:VEVENT
END:VCALENDAR
