BEGIN:VCALENDAR
PRODID:-//SIMsKultur.net//iCal Class MIMEDIR//EN
VERSION:2.0
METHOD:PUBLISH
BEGIN:VEVENT
DTSTART:20260430T160000Z
DTEND:20260430T170000Z
LOCATION;LANGUAGE=de:Karl-Tizian-Platz, 6900 Bregenz
TRANSP:OPAQUE
SEQUENCE:0
UID:6166145b5dd5b7c1885178e3a65b1c71
DTSTAMP:20260420T054500Z
DESCRIPTION;LANGUAGE=de:Führung durch die Ausstellung: Beim gemeinsamen Rundgang gibt's spannende Hintergründe und Einblicke ins Ausstellungskonzept. Die Führungen finden jeden Donnerstag um 18 Uhr, Samstag um 14 Uhr und Sonntag um 16 Uhr statt.

Kunsthaus Bregenz
Karl-Tizian-Platz, 6900 Bregenz
i: https://www.kunsthaus-bregenz.at/
t: +43 5574 48594-433
e: kub@kunsthaus-bregenz.at

Ein Service von Kultur.net. http://www.simskultur.net
SUMMARY;LANGUAGE=de:Führung durch die Ausstellung
PRIORITY:5
CLASS:PUBLIC
URL:https://kultur.net/kunsthaus-bregenz/programm/fuehrung-durch-die-ausstellung
STATUS:CONFIRMED
END:VEVENT
END:VCALENDAR
