BEGIN:VCALENDAR
PRODID:-//SIMsKultur.net//iCal Class MIMEDIR//EN
VERSION:2.0
METHOD:PUBLISH
BEGIN:VEVENT
DTSTART:20261122T100000Z
DTEND:20261122T110000Z
LOCATION;LANGUAGE=de:Johann von Nepomuk-Platz 1, 2700 Wiener Neustadt
TRANSP:OPAQUE
SEQUENCE:0
UID:b9a9e69dc21b8ce4f59a395a23867b27
DTSTAMP:20260419T223600Z
DESCRIPTION;LANGUAGE=de:Hast du dich auch schon immer gefragt, ... warum es so viele Tiere im Museum gibt?: Schlangen, Hähne, Pferde,…. Das klingt ja mehr nach einem Zoo als nach einem Museum. Aber was ist denn ein Museum? Haben Sie auch ein Museum zu Hause, wenn Sie etwas sammeln? Aus welchem Material sind die Tiere gefertigt und welche Geschichten haben sie zu erzählen?

Museum St. Peter an der Sperr
Johann von Nepomuk-Platz 1, 2700 Wiener Neustadt
i: https://www.museum-wn.at
t: +43 2622 373951 
e: museum@wiener-neustadt.at

Ein Service von Kultur.net. http://www.simskultur.net
SUMMARY;LANGUAGE=de:Hast du dich auch schon immer gefragt, ... warum es so viele Tiere im Museum gibt?
PRIORITY:5
CLASS:PUBLIC
URL:https://kultur.net/museum-st-peter-an-der-sperr/programm/hast-du-dich-auch-schon-immer-gefragt-warum-es-so-viele-tiere-
STATUS:CONFIRMED
END:VEVENT
END:VCALENDAR
