BEGIN:VCALENDAR
PRODID:-//SIMsKultur.net//iCal Class MIMEDIR//EN
VERSION:2.0
METHOD:PUBLISH
BEGIN:VEVENT
DTSTART:20260602T220000Z
LOCATION;LANGUAGE=de:Lendkai 1, 8020 Graz
TRANSP:OPAQUE
SEQUENCE:0
UID:75c4ae7ea782e539a037f851e1038bce
DTSTAMP:20260422T023500Z
DESCRIPTION;LANGUAGE=de:Strobl - Iris Andraschek: Mit diesem gleichzeitig wie eine Werbung und eine Signatur wirkenden Leuchtschriftzug im Foyer wird nicht nur Helmut Strobl schon am Eingang des Hauses präsent. Ohne Vornamen gehalten, verweist der Schriftzug auf viele Menschen, die so heißen. Damit gelingt es der Arbeit, den inhaltlichen Fokus des Erinnerns und Identifizierens zu weiten – ganz im Sinne Helmut Strobls, der sein Wirken in den Dienst anderer stellte und sich selbst nicht zu wichtig nahm.

Kunsthaus Graz, Universalmuseum Joanneum
Lendkai 1, 8020 Graz
i: https://www.museum-joanneum.at/kunsthaus-graz
t: +43 361 80179200
e: kunsthausgraz@museum-joanneum.at

Ein Service von Kultur.net. http://www.simskultur.net
SUMMARY;LANGUAGE=de:Strobl - Iris Andraschek
PRIORITY:5
CLASS:PUBLIC
URL:https://kultur.net/kunsthaus-graz-universalmuseum-joanneum/programm/strobl-iris-andraschek
STATUS:CONFIRMED
END:VEVENT
END:VCALENDAR
