BEGIN:VCALENDAR
PRODID:-//SIMsKultur.net//iCal Class MIMEDIR//EN
VERSION:2.0
METHOD:PUBLISH
BEGIN:VEVENT
DTSTART:20260517T080000Z
DTEND:20260517T090000Z
LOCATION;LANGUAGE=de:Burggasse 8, 9020 Klagenfurt
TRANSP:OPAQUE
SEQUENCE:0
UID:2570d9c706e0ecf677627dc62ad86d62
DTSTAMP:20260423T015200Z
DESCRIPTION;LANGUAGE=de:Kopfüber im Museum – Kunst trifft Yoga: Das MMKK lädt zur Yoga Stunde für Anfänger:innen und Fortgeschrittene. Gemeinsam mit der ausgebildeten Yogalehrerin und Kunstvermittlerin Eva Wutte erkunden Sie die aktuelle Ausstellung aus ganz neuer Perspektive.

MMKK - Museum Moderner Kunst Kärnten
Burggasse 8, 9020 Klagenfurt
i: https://mmkk.ktn.gv.at/
t: +43 50 536-34112
e: office.museum@ktn.gv.at

Ein Service von Kultur.net. http://www.simskultur.net
SUMMARY;LANGUAGE=de:Kopfüber im Museum – Kunst trifft Yoga
PRIORITY:5
CLASS:PUBLIC
URL:https://kultur.net/mmkk-museum-moderner-kunst-kaernten/programm/kopfueber-im-museum-kunst-trifft-yoga-0
STATUS:CONFIRMED
END:VEVENT
END:VCALENDAR
