BEGIN:VCALENDAR
PRODID:-//SIMsKultur.net//iCal Class MIMEDIR//EN
VERSION:2.0
METHOD:PUBLISH
BEGIN:VEVENT
DTSTART:20260925T150000Z
DTEND:20260925T160000Z
LOCATION;LANGUAGE=de:Bahngasse 27, 2700 Wiener Neustadt
TRANSP:OPAQUE
SEQUENCE:0
UID:dc74485468c02dfcad32a39d9e670a8f
DTSTAMP:20260420T080900Z
DESCRIPTION;LANGUAGE=de:Führung: Zum Henker!: Bis weit nach dem Mittelalter zählte der Henker zu den Vertretern der so genannten „verfehmten“ Berufe. War er Teil der Gemeinschaft? Er durfte kein städtisches Amt ausüben und blieb durch strenge Vorschriften von der übrigen Gesellschaft getrennt.

Kasematten Wiener Neustadt
Bahngasse 27, 2700 Wiener Neustadt
i: https://www.kasematten-wn.at/de/
t: +43 2622 373 933
e: office@kasematten-wn.at

Ein Service von Kultur.net. http://www.simskultur.net
SUMMARY;LANGUAGE=de:Führung: Zum Henker!
PRIORITY:5
CLASS:PUBLIC
URL:https://kultur.net/kasematten-wiener-neustadt/programm/fuehrung-zum-henker
STATUS:CONFIRMED
END:VEVENT
END:VCALENDAR
