BEGIN:VCALENDAR
PRODID:-//SIMsKultur.net//iCal Class MIMEDIR//EN
VERSION:2.0
METHOD:PUBLISH
BEGIN:VEVENT
DTSTART:20260911T220000Z
LOCATION;LANGUAGE=de:Joseph-Haydn-Gasse 19 & 21, 7000 Eisenstadt 
TRANSP:OPAQUE
SEQUENCE:0
UID:25054a4e51f4a538c2d9c15ccae2badf
DTSTAMP:20260424T104700Z
DESCRIPTION;LANGUAGE=de:Haydn @ home Privates, Wissenswertes, Amüsantes: Nirgendwo sonst wird das private Leben und Schaffen Joseph Haydns so umfassend dargestellt, wie in den detailgetreu rekonstruierten Räumen seines ehemaligen Wohnhauses. Joseph Haydn bewohnte dieses Haus mit seiner Frau Maria Anna Theresia von 1766 bis 1778. Die mit farbenfrohem Streifendekor ausgestatteten Räume geben einen intimen Einblick in den Zeitgeschmack des Paares.

Haydn-Haus Eisenstadt
Joseph-Haydn-Gasse 19 & 21, 7000 Eisenstadt 
i: https://haydnhaus.at/
t: +43 2682 719-6000
e: office@haydnhaus.at

Ein Service von Kultur.net. http://www.simskultur.net
SUMMARY;LANGUAGE=de:Haydn @ home Privates, Wissenswertes, Amüsantes
PRIORITY:5
CLASS:PUBLIC
URL:https://kultur.net/haydn-haus-eisenstadt/programm/haydn-home-privates-wissenswertes-amuesantes
STATUS:CONFIRMED
END:VEVENT
END:VCALENDAR
