BEGIN:VCALENDAR
PRODID:-//SIMsKultur.net//iCal Class MIMEDIR//EN
VERSION:2.0
METHOD:PUBLISH
BEGIN:VEVENT
DTSTART:20260621T220000Z
LOCATION;LANGUAGE=de:Albertinaplatz 1, 1010 Wien
TRANSP:OPAQUE
SEQUENCE:0
UID:6f75d85684ea9b8a8a640e7031cebef0
DTSTAMP:20260422T164100Z
DESCRIPTION;LANGUAGE=de:Monet bis Picasso. Die Sammlung Batliner: Die ALBERTINA besitzt mit der Sammlung Batliner eine der bedeutendsten Kollektionen Europas zur Malerei der Klassischen Moderne.
Den Ausgangspunkt der permanenten Ausstellung bilden die Künstler des Impressionismus und des Postimpressionismus wie Degas, Cézanne, Toulouse-Lautrec und Gauguin.

Albertina
Albertinaplatz 1, 1010 Wien
i: www.albertina.at
t: +43 1 53483-0 
e: info@albertina.at

Ein Service von Kultur.net. http://www.simskultur.net
SUMMARY;LANGUAGE=de:Monet bis Picasso. Die Sammlung Batliner
PRIORITY:5
CLASS:PUBLIC
URL:https://kultur.net/albertina/programm/monet-bis-picasso-die-sammlung-batliner
STATUS:CONFIRMED
END:VEVENT
END:VCALENDAR
