BEGIN:VCALENDAR
PRODID:-//SIMsKultur.net//iCal Class MIMEDIR//EN
VERSION:2.0
METHOD:PUBLISH
BEGIN:VEVENT
DTSTART:20260610T220000Z
LOCATION;LANGUAGE=de:Albertinaplatz 1, 1010 Wien
TRANSP:OPAQUE
SEQUENCE:0
UID:2d8bf647ab8cb453f6de413147c9486b
DTSTAMP:20260422T234200Z
DESCRIPTION;LANGUAGE=de:Monet bis Picasso. Die Sammlung Batliner: Die ALBERTINA besitzt mit der Sammlung Batliner eine der bedeutendsten Kollektionen Europas zur Malerei der Klassischen Moderne.
Den Ausgangspunkt der permanenten Ausstellung bilden die Künstler des Impressionismus und des Postimpressionismus wie Degas, Cézanne, Toulouse-Lautrec und Gauguin.

Albertina
Albertinaplatz 1, 1010 Wien
i: www.albertina.at
t: +43 1 53483-0 
e: info@albertina.at

Ein Service von Kultur.net. http://www.simskultur.net
SUMMARY;LANGUAGE=de:Monet bis Picasso. Die Sammlung Batliner
PRIORITY:5
CLASS:PUBLIC
URL:https://kultur.net/albertina/programm/monet-bis-picasso-die-sammlung-batliner
STATUS:CONFIRMED
END:VEVENT
END:VCALENDAR
