BEGIN:VCALENDAR
PRODID:-//SIMsKultur.net//iCal Class MIMEDIR//EN
VERSION:2.0
METHOD:PUBLISH
BEGIN:VEVENT
DTSTART:20210810T220000Z
LOCATION;LANGUAGE=de:Berggasse 19, 1090 Wien
TRANSP:OPAQUE
SEQUENCE:0
UID:2976d4148a099490717de4e03992478c
DTSTAMP:20260421T190300Z
DESCRIPTION;LANGUAGE=de:Sigmund Freud Daueraustellung - Ursprungsort der Psychoanalyse: Die im Original erhaltenen Raumstrukturen von Freuds frührerer Wohnung und Ordination im Mezzanin eröffnen ein authentisches Erleben des Ursprungsorts der Psychoanalyse, zugleich beleuchten zahlreiche Exponate in den Ausstellungsräumen – Objekte aus Familienbesitz, originale Schriften und Fotografien – die beruflichen Stationen und biografische Facetten von Freuds Leben und Familienalltag.

Sigmund Freud Museum
Berggasse 19, 1090 Wien
i: https://www.freud-museum.at/de/
t: +43 1 3191596
e: office@freud-museum.at

Ein Service von Kultur.net. http://www.simskultur.net
SUMMARY;LANGUAGE=de:Sigmund Freud Daueraustellung - Ursprungsort der Psychoanalyse
PRIORITY:5
CLASS:PUBLIC
URL:https://kultur.net/sigmund-freud-museum/programm/sigmund-freud-daueraustellung-ursprungsort-der-psychoanalyse
STATUS:CONFIRMED
END:VEVENT
END:VCALENDAR
